BEGIN:VCALENDAR
VERSION:2.0
PRODID:-//West Island Dragons - ECPv6.10.2//NONSGML v1.0//EN
CALSCALE:GREGORIAN
METHOD:PUBLISH
X-WR-CALNAME:West Island Dragons
X-ORIGINAL-URL:https://westislanddragons.ca
X-WR-CALDESC:Events for West Island Dragons
REFRESH-INTERVAL;VALUE=DURATION:PT1H
X-Robots-Tag:noindex
X-PUBLISHED-TTL:PT1H
BEGIN:VTIMEZONE
TZID:America/Toronto
BEGIN:DAYLIGHT
TZOFFSETFROM:-0500
TZOFFSETTO:-0400
TZNAME:EDT
DTSTART:20230312T070000
END:DAYLIGHT
BEGIN:STANDARD
TZOFFSETFROM:-0400
TZOFFSETTO:-0500
TZNAME:EST
DTSTART:20231105T060000
END:STANDARD
END:VTIMEZONE
BEGIN:VEVENT
DTSTART;TZID=America/Toronto:20230409T110000
DTEND;TZID=America/Toronto:20230409T150000
DTSTAMP:20260420T042800
CREATED:20231109T163426Z
LAST-MODIFIED:20231109T165919Z
UID:410-1681038000-1681052400@westislanddragons.ca
SUMMARY:Fundraiser for the West Island Dragons 2020
DESCRIPTION:The West Island Dragons are a nonprofit amateur sports team made up of breast cancer survivors and thrivers. We paddle together to demonstrate that there can be a healthy active living after breast cancer. \nWe are holding a fundraiser at Chapters Pointe-Claire to raise funds to help cover the costs of running the team. The money raised would go towards covering the costs of festivals\, registration in competitions\, equipment\, training and outfitting the team. \nWe invite you to come and meet some of our team\, check out some videos and pictures of us at festivals and do some shopping. Who doesn’t need another book to read? Maybe a candle? Please come and support our team. A portion of the sales made between 5pm and 9pm during the event will be given to the team.
URL:https://westislanddragons.ca/event/fundraiser-for-the-west-island-dragons-2020/
LOCATION:Indigo Pointe-Claire\, 6321\, autoroute Transcanadienne\, bureau 141\, Pointe-Claire\, Quebec\, H9R 5A5\, Canada
CATEGORIES:Fundraiser
ATTACH;FMTTYPE=image/jpeg:https://westislanddragons.ca/wp-content/uploads/2022/01/Fundraiser-for-the-West-Island-Dragons-min.jpg
END:VEVENT
END:VCALENDAR