BEGIN:VCALENDAR
VERSION:2.0
PRODID:-//West Island Dragons - ECPv6.10.2//NONSGML v1.0//EN
CALSCALE:GREGORIAN
METHOD:PUBLISH
X-ORIGINAL-URL:https://westislanddragons.ca
X-WR-CALDESC:Events for West Island Dragons
REFRESH-INTERVAL;VALUE=DURATION:PT1H
X-Robots-Tag:noindex
X-PUBLISHED-TTL:PT1H
BEGIN:VTIMEZONE
TZID:America/Toronto
BEGIN:DAYLIGHT
TZOFFSETFROM:-0500
TZOFFSETTO:-0400
TZNAME:EDT
DTSTART:20230312T070000
END:DAYLIGHT
BEGIN:STANDARD
TZOFFSETFROM:-0400
TZOFFSETTO:-0500
TZNAME:EST
DTSTART:20231105T060000
END:STANDARD
END:VTIMEZONE
BEGIN:VEVENT
DTSTART;TZID=America/Toronto:20231021T100000
DTEND;TZID=America/Toronto:20231021T160000
DTSTAMP:20260419T194840
CREATED:20231108T213330Z
LAST-MODIFIED:20231108T213330Z
UID:382-1697882400-1697904000@westislanddragons.ca
SUMMARY:3rd Annual Breast Cancer Awareness Vendor Event 2023
DESCRIPTION:
URL:https://westislanddragons.ca/event/3rd-annual-breast-cancer-awareness-vendor-event-2023/
LOCATION:Novotel Hotel\, 2599 Boulevard Alfred-Nobel\, St-Laurent\, Quebec\, H4S 2G1\, Canada
CATEGORIES:Fundraiser
ATTACH;FMTTYPE=image/jpeg:https://westislanddragons.ca/wp-content/uploads/2023/11/3rdAnnualVendorEvent2023.jpg
END:VEVENT
END:VCALENDAR