BEGIN:VCALENDAR
VERSION:2.0
PRODID:-//West Island Dragons - ECPv6.10.2//NONSGML v1.0//EN
CALSCALE:GREGORIAN
METHOD:PUBLISH
X-WR-CALNAME:West Island Dragons
X-ORIGINAL-URL:https://westislanddragons.ca
X-WR-CALDESC:Events for West Island Dragons
REFRESH-INTERVAL;VALUE=DURATION:PT1H
X-Robots-Tag:noindex
X-PUBLISHED-TTL:PT1H
BEGIN:VTIMEZONE
TZID:America/Toronto
BEGIN:DAYLIGHT
TZOFFSETFROM:-0500
TZOFFSETTO:-0400
TZNAME:EDT
DTSTART:20230312T070000
END:DAYLIGHT
BEGIN:STANDARD
TZOFFSETFROM:-0400
TZOFFSETTO:-0500
TZNAME:EST
DTSTART:20231105T060000
END:STANDARD
END:VTIMEZONE
BEGIN:VEVENT
DTSTART;TZID=America/Toronto:20230610T080000
DTEND;TZID=America/Toronto:20230610T160000
DTSTAMP:20260421T090154
CREATED:20231107T155655Z
LAST-MODIFIED:20231109T164828Z
UID:383-1686384000-1686412800@westislanddragons.ca
SUMMARY:Lachine Knockout 2023
DESCRIPTION:Excited to join this famous June sporting event! \nWe begin our first race in the community category at 8:20am in couloir 4\, our second at 10:35am in couloir 1\, and our final at 11:29am again in couloir 4. \nWe’ll also brave our survivor race following these\, at 1:31pm in couloir 2. \nWe’re Ready! Ready!
URL:https://westislanddragons.ca/event/lachine-knockout-2023/
LOCATION:Lachine Canoe Club\, 2105 Boulevard Saint-Joseph\, Lachine\, Quebec\, H8S 2N7\, Canada
CATEGORIES:Race
ATTACH;FMTTYPE=image/jpeg:https://westislanddragons.ca/wp-content/uploads/2023/11/LachineKnockout2023.jpg
END:VEVENT
END:VCALENDAR