BEGIN:VCALENDAR
VERSION:2.0
PRODID:-//West Island Dragons - ECPv6.10.2//NONSGML v1.0//EN
CALSCALE:GREGORIAN
METHOD:PUBLISH
X-ORIGINAL-URL:https://westislanddragons.ca
X-WR-CALDESC:Events for West Island Dragons
REFRESH-INTERVAL;VALUE=DURATION:PT1H
X-Robots-Tag:noindex
X-PUBLISHED-TTL:PT1H
BEGIN:VTIMEZONE
TZID:America/Toronto
BEGIN:DAYLIGHT
TZOFFSETFROM:-0500
TZOFFSETTO:-0400
TZNAME:EDT
DTSTART:20240310T070000
END:DAYLIGHT
BEGIN:STANDARD
TZOFFSETFROM:-0400
TZOFFSETTO:-0500
TZNAME:EST
DTSTART:20241103T060000
END:STANDARD
END:VTIMEZONE
BEGIN:VEVENT
DTSTART;TZID=America/Toronto:20240608T070000
DTEND;TZID=America/Toronto:20240608T163000
DTSTAMP:20260420T170808
CREATED:20240529T195456Z
LAST-MODIFIED:20240605T204944Z
UID:3019-1717830000-1717864200@westislanddragons.ca
SUMMARY:Lachine Knockout
DESCRIPTION:You can click this link to download the program details (race times): Lachine_program_2024 \n \n  \n  \n  \n  \n \n  \n  \n  \n 
URL:https://westislanddragons.ca/event/lachine-knockout/
LOCATION:Lachine Canoe Club\, 2105 Boulevard Saint-Joseph\, Lachine\, Quebec\, H8S 2N7\, Canada
CATEGORIES:Race
END:VEVENT
END:VCALENDAR