BEGIN:VCALENDAR
VERSION:2.0
PRODID:-//West Island Dragons - ECPv6.10.2//NONSGML v1.0//EN
CALSCALE:GREGORIAN
METHOD:PUBLISH
X-ORIGINAL-URL:https://westislanddragons.ca
X-WR-CALDESC:Events for West Island Dragons
REFRESH-INTERVAL;VALUE=DURATION:PT1H
X-Robots-Tag:noindex
X-PUBLISHED-TTL:PT1H
BEGIN:VTIMEZONE
TZID:America/Toronto
BEGIN:DAYLIGHT
TZOFFSETFROM:-0500
TZOFFSETTO:-0400
TZNAME:EDT
DTSTART:20240310T070000
END:DAYLIGHT
BEGIN:STANDARD
TZOFFSETFROM:-0400
TZOFFSETTO:-0500
TZNAME:EST
DTSTART:20241103T060000
END:STANDARD
END:VTIMEZONE
BEGIN:VEVENT
DTSTART;TZID=America/Toronto:20240210T080000
DTEND;TZID=America/Toronto:20240211T170000
DTSTAMP:20260413T223635
CREATED:20231109T190823Z
LAST-MODIFIED:20240619T144617Z
UID:438-1707552000-1707670800@westislanddragons.ca
SUMMARY:BeaverTails Ottawa Ice Dragon Boat Festival 2024
DESCRIPTION:During the coldest month of the year\, the West Island Dragons will travel to Quebec’s sister province\, straight to Ottawa for this exciting race. \nTeam members are hard at work\, getting physically and mentally prepared for this 200-meter race. \n  \n 
URL:https://westislanddragons.ca/event/beavertails-ottawa-ice-dragon-boat-festival-2024/
LOCATION:Rideau Canal Skateway at Dow’s Lake\, 1001 Queen Elizabeth Dr\, Ottawa\, Quebec\, K1S 5K7\, Canada
CATEGORIES:Race
END:VEVENT
END:VCALENDAR