BEGIN:VCALENDAR
VERSION:2.0
PRODID:-//West Island Dragons - ECPv6.10.2//NONSGML v1.0//EN
CALSCALE:GREGORIAN
METHOD:PUBLISH
X-WR-CALNAME:West Island Dragons
X-ORIGINAL-URL:https://westislanddragons.ca/fr
X-WR-CALDESC:Events for West Island Dragons
REFRESH-INTERVAL;VALUE=DURATION:PT1H
X-Robots-Tag:noindex
X-PUBLISHED-TTL:PT1H
BEGIN:VTIMEZONE
TZID:America/Toronto
BEGIN:DAYLIGHT
TZOFFSETFROM:-0500
TZOFFSETTO:-0400
TZNAME:EDT
DTSTART:20250309T070000
END:DAYLIGHT
BEGIN:STANDARD
TZOFFSETFROM:-0400
TZOFFSETTO:-0500
TZNAME:EST
DTSTART:20251102T060000
END:STANDARD
END:VTIMEZONE
BEGIN:VEVENT
DTSTART;VALUE=DATE:20251025
DTEND;VALUE=DATE:20251026
DTSTAMP:20260417T214836
CREATED:20250318T191804Z
LAST-MODIFIED:20250318T191905Z
UID:1074-1761350400-1761436799@westislanddragons.ca
SUMMARY:Événement vendeurs annuelle pour la sensibilisation au cancer du sein
DESCRIPTION:
URL:https://westislanddragons.ca/fr/evenements/evenement-vendeurs-annuelle-pour-la-sensibilisation-au-cancer-du-sein/
LOCATION:Hotel Novotel\, 2599 Boulevard Alfred-Nobel\, St-Laurent\, Quebec\, H4S 2G1\, Canada
CATEGORIES:Levée de fonds
ORGANIZER;CN="Dragons de l'ouest de l'%C3%AEle":MAILTO:westislanddragons1@gmail.com
END:VEVENT
END:VCALENDAR